BEGIN:VCALENDAR
VERSION:2.0
PRODID:GIGPRESS 2.0 WORDPRESS PLUGIN
CALSCALE:GREGORIAN
X-WR-TIMEZONE:Etc/GMT
METHOD:PUBLISH
BEGIN:VTIMEZONE
TZID:GMT
BEGIN:STANDARD
DTSTART:20071028T010000
TZOFFSETTO:+0000
TZOFFSETFROM:+0000
END:STANDARD
END:VTIMEZONE
BEGIN:VEVENT
SUMMARY:Yaw Faso at I Love Dancehall feat Big Zeeks (UK)
DESCRIPTION:No Minors
LOCATION:I Love Dancehall feat Big Zeeks (UK)\, Rubix Warehouse\, Melbourne\, VIC\, AU
UID:20200229T000000Z-52-lee@altmusicgroup.com.au
URL:http://www.altmusicgroup.com.au
DTSTART;VALUE=DATE-TIME;TZID=GMT:20200229T000000Z
DTEND;VALUE=DATE-TIME;TZID=GMT:20200229T000000Z
DTSTAMP:20200227T104331Z
END:VEVENT
END:VCALENDAR