BEGIN:VCALENDAR
VERSION:2.0
PRODID:GIGPRESS 2.0 WORDPRESS PLUGIN
CALSCALE:GREGORIAN
X-WR-TIMEZONE:Etc/GMT
METHOD:PUBLISH
BEGIN:VTIMEZONE
TZID:GMT
BEGIN:STANDARD
DTSTART:20071028T010000
TZOFFSETTO:+0000
TZOFFSETFROM:+0000
END:STANDARD
END:VTIMEZONE
BEGIN:VEVENT
SUMMARY:Yaw Faso at Sneakerheads - Real West Tour (support)
DESCRIPTION:No Minors
LOCATION:Sneakerheads - Real West Tour (support)\, The Mersh\, Yarraville\, VIC\, AF
UID:20200228T020000Z-57-lee@altmusicgroup.com.au
URL:http://www.altmusicgroup.com.au
DTSTART;VALUE=DATE-TIME;TZID=GMT:20200228T020000Z
DTEND;VALUE=DATE-TIME;TZID=GMT:20200228T020000Z
DTSTAMP:20200227T104326Z
END:VEVENT
END:VCALENDAR