BEGIN:VCALENDAR
VERSION:2.0
PRODID:GIGPRESS 2.0 WORDPRESS PLUGIN
CALSCALE:GREGORIAN
X-WR-TIMEZONE:Etc/GMT
METHOD:PUBLISH
BEGIN:VTIMEZONE
TZID:GMT
BEGIN:STANDARD
DTSTART:20071028T010000
TZOFFSETTO:+0000
TZOFFSETFROM:+0000
END:STANDARD
END:VTIMEZONE
BEGIN:VEVENT
SUMMARY:François at 3000 Summers Vol.2
DESCRIPTION:No Minors
LOCATION:3000 Summers Vol.2\, Section 8\, Melbourne\, VIC\, AF
UID:20200312T020000Z-60-lee@altmusicgroup.com.au
URL:http://www.altmusicgroup.com.au
DTSTART;VALUE=DATE-TIME;TZID=GMT:20200312T020000Z
DTEND;VALUE=DATE-TIME;TZID=GMT:20200312T020000Z
DTSTAMP:20200227T104520Z
END:VEVENT
END:VCALENDAR